BEGIN:VCALENDAR
VERSION:2.0
PRODID:-//General Board of Higher Education and Ministry - ECPv6.15.20//NONSGML v1.0//EN
CALSCALE:GREGORIAN
METHOD:PUBLISH
X-ORIGINAL-URL:https://www.gbhem.org
X-WR-CALDESC:Events for General Board of Higher Education and Ministry
REFRESH-INTERVAL;VALUE=DURATION:PT1H
X-Robots-Tag:noindex
X-PUBLISHED-TTL:PT1H
BEGIN:VTIMEZONE
TZID:America/Chicago
BEGIN:DAYLIGHT
TZOFFSETFROM:-0600
TZOFFSETTO:-0500
TZNAME:CDT
DTSTART:20240310T080000
END:DAYLIGHT
BEGIN:STANDARD
TZOFFSETFROM:-0500
TZOFFSETTO:-0600
TZNAME:CST
DTSTART:20241103T070000
END:STANDARD
BEGIN:DAYLIGHT
TZOFFSETFROM:-0600
TZOFFSETTO:-0500
TZNAME:CDT
DTSTART:20250309T080000
END:DAYLIGHT
BEGIN:STANDARD
TZOFFSETFROM:-0500
TZOFFSETTO:-0600
TZNAME:CST
DTSTART:20251102T070000
END:STANDARD
BEGIN:DAYLIGHT
TZOFFSETFROM:-0600
TZOFFSETTO:-0500
TZNAME:CDT
DTSTART:20260308T080000
END:DAYLIGHT
BEGIN:STANDARD
TZOFFSETFROM:-0500
TZOFFSETTO:-0600
TZNAME:CST
DTSTART:20261101T070000
END:STANDARD
END:VTIMEZONE
BEGIN:VEVENT
DTSTART;VALUE=DATE:20250427
DTEND;VALUE=DATE:20250503
DTSTAMP:20260421T075019
CREATED:20250415T222825Z
LAST-MODIFIED:20250416T002618Z
UID:24140-1745712000-1746230399@www.gbhem.org
SUMMARY:Council of Bishops Meeting
DESCRIPTION:The Council of Bishops is made up of all active and retired bishops of The United Methodist Church. The Council meets twice a year. According to the Book of Discipline\, “The Church expects the Council of Bishops to speak to the Church and from the Church to the world and to give leadership in the quest for Christian unity and interreligious relationships.” \nLearn more at https://www.unitedmethodistbishops.org/ \n 
URL:https://www.gbhem.org/event/council-of-bishops-meeting/
LOCATION:Chicago\, Illinois\, Chicago\, Illinois
ATTACH;FMTTYPE=image/jpeg:https://www.gbhem.org/wp-content/uploads/2025/04/rectangle2.jpg
END:VEVENT
BEGIN:VEVENT
DTSTART;VALUE=DATE:20250501
DTEND;VALUE=DATE:20250506
DTSTAMP:20260421T075019
CREATED:20250416T004646Z
LAST-MODIFIED:20250416T004646Z
UID:24146-1746057600-1746489599@www.gbhem.org
SUMMARY:CCTEF Commission Meeting
DESCRIPTION:The Central Conference Theological Education Fund (CCTEF) was established by the 2012 General Conference of The United Methodist Church. The goal is to strengthen theological education and pastoral formation in all the Central Conferences in Africa\, Europe\, and the Philippines. The commission has awarded more than 154 grants\, increasing the capacity of leaders in mission fields\, developed contextual resources and supported innovations in education and ministry\, and enabled sustainable programs and practices. Commissioners will review the 2024 CCTEF grant applications and make decisions on which applications to award funding.
URL:https://www.gbhem.org/event/cctef-commission-meeting/
LOCATION:Evanston\, Illinois\, Evanston\, Illinois
ATTACH;FMTTYPE=image/jpeg:https://www.gbhem.org/wp-content/uploads/2025/04/CCTEF.jpg
END:VEVENT
BEGIN:VEVENT
DTSTART;VALUE=DATE:20250504
DTEND;VALUE=DATE:20250505
DTSTAMP:20260421T075019
CREATED:20250416T002004Z
LAST-MODIFIED:20250416T002130Z
UID:24158-1746316800-1746403199@www.gbhem.org
SUMMARY:Native American Ministries Sunday
DESCRIPTION:The Native American Ministries offering provides scholarships for Native Americans studying at United Methodist schools of theology and empowers congregations to find culturally appropriate ways to minister to their communities through Christ’s love.
URL:https://www.gbhem.org/event/native-american-ministries-sunday/
ATTACH;FMTTYPE=image/jpeg:https://www.gbhem.org/wp-content/uploads/2025/04/2025_2028_NAMS_Quad_SM_Graphics_1080x1080.jpg
END:VEVENT
BEGIN:VEVENT
DTSTART;VALUE=DATE:20250518
DTEND;VALUE=DATE:20250519
DTSTAMP:20260421T075019
CREATED:20250416T002735Z
LAST-MODIFIED:20250416T003837Z
UID:24168-1747526400-1747612799@www.gbhem.org
SUMMARY:United Methodist Student Day
DESCRIPTION:United Methodist Student Day is observed to emphasize the value of education. Contributions received through this special Sunday support scholarships for United Methodist students pursuing undergraduate and graduate degrees. This includes programs like the Rev. Dr. Karen Layman Gift of Hope Scholarship\, designated for undergraduates with at least three years of membership in The United Methodist Church.
URL:https://www.gbhem.org/event/united-methodist-student-day/
ATTACH;FMTTYPE=image/jpeg:https://www.gbhem.org/wp-content/uploads/2025/04/2025_2028_UMSD_Quad_SM_Graphics_1080x1080.jpg
END:VEVENT
END:VCALENDAR